BEGIN:VCALENDAR
PRODID:-//eluceo/ical//2.0/EN
VERSION:2.0
CALSCALE:GREGORIAN
BEGIN:VEVENT
UID:8d87e01f15203a7890df334c252b72f1
DTSTAMP:20260420T123506Z
SUMMARY:Marché de Noël ENSISHEIM
DESCRIPTION:
URL:https://rotary-ensisheim.org/fr/agenda/show/32996
DTSTART;TZID=Europe/Zurich:20221210T100000
DTEND;TZID=Europe/Zurich:20221211T220000
LOCATION:Place de l'Eglise ENSISHEIM
CATEGORIES:Rotary
END:VEVENT
BEGIN:VTIMEZONE
TZID:Europe/Zurich
BEGIN:STANDARD
DTSTART:20221210T100000
TZNAME:CET
TZOFFSETTO:+0100
TZOFFSETFROM:+0100
END:STANDARD
END:VTIMEZONE
END:VCALENDAR
