BEGIN:VCALENDAR
PRODID:-//eluceo/ical//2.0/EN
VERSION:2.0
CALSCALE:GREGORIAN
BEGIN:VEVENT
UID:98b5658ba3d712b061bebfd3cda3eb1d
DTSTAMP:20260422T092005Z
SUMMARY:Marché de Noël ENSISHEIM
DESCRIPTION:
URL:https://rotary-ensisheim.org/fr/agenda/show/32995
DTSTART;TZID=Europe/Zurich:20221203T100000
DTEND;TZID=Europe/Zurich:20221204T220000
LOCATION:Place de l'Eglise ENSISHEIM
CATEGORIES:Rotary
END:VEVENT
BEGIN:VTIMEZONE
TZID:Europe/Zurich
BEGIN:STANDARD
DTSTART:20221203T100000
TZNAME:CET
TZOFFSETTO:+0100
TZOFFSETFROM:+0100
END:STANDARD
END:VTIMEZONE
END:VCALENDAR
