BEGIN:VCALENDAR
PRODID:-//eluceo/ical//2.0/EN
VERSION:2.0
CALSCALE:GREGORIAN
BEGIN:VEVENT
UID:fdc232e4ec6ab0ac534fb12fabead973
DTSTAMP:20260420T123042Z
SUMMARY:MARCHÉ DE NOÊL à Ensisheim
DESCRIPTION:Site internet: http://ensisheim.net/culture-loisirs/calendrier-
 des-manifestations/\nConférencier(s): Retrouvez-nous sur le Marché de No
 ël d'Ensisheim !Brédalés\, créations sur le thème de Noël de nos mem
 bres et amis\, crémant d'Alsace\, bière chaude\,... au bénéfice de nos
  actions caritatives !
URL:https://rotary-ensisheim.org/fr/agenda/show/26842
DTSTART;TZID=Europe/Zurich:20211204T140000
DTEND;TZID=Europe/Zurich:20211212T200000
LOCATION:Place de l'Eglise | Ensisheim
CATEGORIES:Rotary
END:VEVENT
BEGIN:VTIMEZONE
TZID:Europe/Zurich
BEGIN:STANDARD
DTSTART:20211204T140000
TZNAME:CET
TZOFFSETTO:+0100
TZOFFSETFROM:+0100
END:STANDARD
END:VTIMEZONE
END:VCALENDAR
